BEGIN:VCALENDAR
VERSION:2.0
PRODID:-//Millers Carnation - ECPv6.15.20//NONSGML v1.0//EN
CALSCALE:GREGORIAN
METHOD:PUBLISH
X-ORIGINAL-URL:https://millerscarnation.com
X-WR-CALDESC:Events for Millers Carnation
REFRESH-INTERVAL;VALUE=DURATION:PT1H
X-Robots-Tag:noindex
X-PUBLISHED-TTL:PT1H
BEGIN:VTIMEZONE
TZID:America/Los_Angeles
BEGIN:DAYLIGHT
TZOFFSETFROM:-0800
TZOFFSETTO:-0700
TZNAME:PDT
DTSTART:20250309T100000
END:DAYLIGHT
BEGIN:STANDARD
TZOFFSETFROM:-0700
TZOFFSETTO:-0800
TZNAME:PST
DTSTART:20251102T090000
END:STANDARD
BEGIN:DAYLIGHT
TZOFFSETFROM:-0800
TZOFFSETTO:-0700
TZNAME:PDT
DTSTART:20260308T100000
END:DAYLIGHT
BEGIN:STANDARD
TZOFFSETFROM:-0700
TZOFFSETTO:-0800
TZNAME:PST
DTSTART:20261101T090000
END:STANDARD
BEGIN:DAYLIGHT
TZOFFSETFROM:-0800
TZOFFSETTO:-0700
TZNAME:PDT
DTSTART:20270314T100000
END:DAYLIGHT
BEGIN:STANDARD
TZOFFSETFROM:-0700
TZOFFSETTO:-0800
TZNAME:PST
DTSTART:20271107T090000
END:STANDARD
END:VTIMEZONE
BEGIN:VEVENT
DTSTART;TZID=America/Los_Angeles:20260529T200000
DTEND;TZID=America/Los_Angeles:20260529T200000
DTSTAMP:20260420T095915
CREATED:20260310T153142Z
LAST-MODIFIED:20260310T153225Z
UID:10000828-1780084800-1780084800@millerscarnation.com
SUMMARY:Dakota Poorman
DESCRIPTION:From Maple Valley\, WA\, singer-songwriter Dakota Poorman is a breath of fresh air in the country music world\, where his raw rock ‘n roll is infused with a fiery fiddle and badass banjo. When you hear Dakota Poorman\, envision the vocals of Travis Tritt\, the presence of Bob Seger\, and the lyrics of John Mellencamp. \nWith undeniable talent and passion\, Poorman has already come a long way in the music industry and is now successfully climbing the country radio charts with his new single “American Made\,” which charted at #96 on release week and is now in the Country Top 70. His journey includes opening for The Marshall Tucker Band\, Jon Pardi\, Dustin Lynch\, Parmalee\, Kameron Marlowe and many other talented artists. \nHis songs play on Seattle’s country music station 100.7 and 98.9. This up-and-coming artist has already collaborated with world-class producer Malcolm Springer and was recognized as the 2019- 2020 Independent Music Award “Male Artist of the Year” by USO Northwest. \n*Tickets are non-refundable\, unless the show is cancelled or rescheduled.  If you cannot attend a show\, tickets can be transferred from the purchaser to another individual\, or individuals. Tickets purchased for a specific event cannot be transferred to a different event. \n*Doors open one hour before scheduled show time \n*Seating is on a first come basis and sold-out shows are partially seated.  Please arrive early for the best seating options. Reservations not available. \n*Food and beverages. Beer\, wine\, and non-alcoholic beverages are available for purchase.  We are not currently serving food\, but food can be brought in from home\, or neighborhood restaurants.  No outside drinks please. \nShows are all ages.
URL:https://millerscarnation.com/event/dakota-poorman-full-band/
LOCATION:Millers – A Gathering Place\, 4597 Tolt Avenue\, Carnation\, WA\, 98014\, United States
CATEGORIES:public,public calendar
ATTACH;FMTTYPE=image/png:https://millerscarnation.com/wp-content/uploads/2026/03/Dakota-Poorman-Poster.png
END:VEVENT
BEGIN:VEVENT
DTSTART;TZID=America/Los_Angeles:20260605T200000
DTEND;TZID=America/Los_Angeles:20260605T200000
DTSTAMP:20260420T095915
CREATED:20260402T144707Z
LAST-MODIFIED:20260402T144826Z
UID:10000838-1780689600-1780689600@millerscarnation.com
SUMMARY:The Dusty 45's
DESCRIPTION:The Dusty 45s have inspired and fired up crowds for over two decades to the delight of fans and critics alike. With their signature style and unique sound\, the band is a consistently powerful and energetic player in the Americana field. \nThe band was founded in 1997 by charismatic singer/songwriter\, guitarist and trumpeter\, Billy Joe Huels. Huels’ songs draw inspiration from the roots of rock\, rhythm and blues\, honky-tonk and jazz. The quartet also features award winning blues guitarist\, Rod Cook\, Robin Cady (upright bass) and Kohen Burrill (Drums). \n*Tickets are non-refundable\, unless the show is cancelled or rescheduled.  If you cannot attend a show\, tickets can be transferred from the purchaser to another individual\, or individuals. Tickets purchased for a specific event cannot be transferred to a different event. \n*Doors open one hour before scheduled show time \n*Seating is on a first come basis and sold-out shows are partially seated.  Please arrive early for the best seating options. Reservations not available. \n*Food and beverages. Beer\, wine\, and non-alcoholic beverages are available for purchase.  We are not currently serving food\, but food can be brought in from home\, or neighborhood restaurants.  No outside drinks please. \nShows are all ages.
URL:https://millerscarnation.com/event/the-dusty-45s-2/
LOCATION:Millers – A Gathering Place\, 4597 Tolt Avenue\, Carnation\, WA\, 98014\, United States
CATEGORIES:public,public calendar
ATTACH;FMTTYPE=image/jpeg:https://millerscarnation.com/wp-content/uploads/2026/04/Dusty-45s-2026-WEB.jpg
END:VEVENT
BEGIN:VEVENT
DTSTART;TZID=America/Los_Angeles:20260612T200000
DTEND;TZID=America/Los_Angeles:20260612T200000
DTSTAMP:20260420T095915
CREATED:20260406T163843Z
LAST-MODIFIED:20260406T195645Z
UID:10000839-1781294400-1781294400@millerscarnation.com
SUMMARY:BYLAND and Zander Hawley - accompanied by Abby Gundersen
DESCRIPTION:  \nJoin us for a special stripped-down evening with BYLAND (Alie)\, and ZANDER\, accompanied by Abby Gundersen. \nByland is the moniker and last name of Seattle based\, Albuquerque raised\, singer-songwriter and multi-instrumentalist\, Alie Renee. Alie’s cinematic\, indie-rock sound is grounded by vocally vulnerable moments that will move you to lean in. The acclaimed project has received recognition from outlets like KEXP\, Under The Radar\, American Songwriter\, Flood Magazine\, and others. \nZander Hawley is a singer and songwriter from Los Angeles. Described as “an avalanche of feeling” (Atwood Magazine) and “consistently captivating\, lyrical storytelling” (Ones To Watch)\, he has toured the US\, Canada\, and Europe\, both on his own and opening for acts including The Naked and Famous and Noah Gundersen. His music has been featured on television in “The Following” on Fox and “The Recruit” on Netflix\, and he currently appears as “Rodge” on “The Rookie” on ABC. \n*Tickets are non-refundable\, unless the show is cancelled or rescheduled.  If you cannot attend a show\, tickets can be transferred from the purchaser to another individual\, or individuals. Tickets purchased for a specific event cannot be transferred to a different event. \n*Doors open one hour before scheduled show time \n*Seating is on a first come basis and sold-out shows are partially seated.  Please arrive early for the best seating options. Reservations not available. \n*Food and beverages. Beer\, wine\, and non-alcoholic beverages are available for purchase.  We are not currently serving food\, but food can be brought in from home\, or neighborhood restaurants.  No outside drinks please. \nShows are all ages.
URL:https://millerscarnation.com/event/byland-zander-accompanied-by-abby-gundersen/
LOCATION:Millers – A Gathering Place\, 4597 Tolt Avenue\, Carnation\, WA\, 98014\, United States
CATEGORIES:public,public calendar
ATTACH;FMTTYPE=image/jpeg:https://millerscarnation.com/wp-content/uploads/2026/04/Byland-Zander-2026-WEB-1.jpg
END:VEVENT
BEGIN:VEVENT
DTSTART;TZID=America/Los_Angeles:20260626T200000
DTEND;TZID=America/Los_Angeles:20260626T200000
DTSTAMP:20260420T095915
CREATED:20260414T163039Z
LAST-MODIFIED:20260414T163145Z
UID:10000843-1782504000-1782504000@millerscarnation.com
SUMMARY:Ashleigh Flynn & The Riveters
DESCRIPTION:West Coast-based\, Americana rock n roll band\, Ashleigh Flynn & The Riveters released their new album “Good Morning\, Sunshine” on April 4th\, 2025\, and are taking their collection of new songs on the road. Recently signed to LA-based\, Blackbird Record Label\, the all-female band finds joy and connection with music fans via their energized live show and ability to “shred as well as the boys do.” \n​Technical musical skills aside\, there are compelling layers throughout Flynn’s seasoned songwriting that shed light on the human corners of darkness and in turn\, uplift listeners in the same way her favorite artists have done for her. Some of those heroes Flynn has had the opportunity to share the stage with\, such as Willie Nelson\, Todd Snider\, The Wood Brothers\, Hayes Carll\, Amy Ray\, and Nanci Griﬃth. Flynn grew up primarily around the South in Kentucky and Virginia\, cutting her musical teeth on bluegrass\, Motown and rock n roll. \n​While Ashleigh Flynn & The Riveters are focused on the one thing they love most\, playing live shows\, they also use their music as a vehicle for hope and awareness when it comes to challenges that women\, LGBQT+ and marginalized people and nature face within a highly divisive social and political climate. And they deliver that message with positive vibes by inviting listeners to let go of fear\, have a little fun\, and let love simply be love. “We summon our courage to bring joy\,” says Flynn. \n*Tickets are non-refundable\, unless the show is cancelled or rescheduled.  If you cannot attend a show\, tickets can be transferred from the purchaser to another individual\, or individuals. Tickets purchased for a specific event cannot be transferred to a different event. \n*Doors open one hour before scheduled show time \n*Seating is on a first come basis and sold-out shows are partially seated.  Please arrive early for the best seating options. Reservations not available. \n*Food and beverages. Beer\, wine\, and non-alcoholic beverages are available for purchase.  We are not currently serving food\, but food can be brought in from home\, or neighborhood restaurants.  No outside drinks please. \nShows are all ages.
URL:https://millerscarnation.com/event/ashleigh-flynn-the-riveters/
LOCATION:Millers – A Gathering Place\, 4597 Tolt Avenue\, Carnation\, WA\, 98014\, United States
CATEGORIES:public,public calendar
ATTACH;FMTTYPE=image/jpeg:https://millerscarnation.com/wp-content/uploads/2026/04/Ashleigh-Flynn-The-Riveters-WEB.jpg
END:VEVENT
END:VCALENDAR