BEGIN:VCALENDAR
VERSION:2.0
PRODID:-//Millers Carnation - ECPv6.15.20//NONSGML v1.0//EN
CALSCALE:GREGORIAN
METHOD:PUBLISH
X-ORIGINAL-URL:https://millerscarnation.com
X-WR-CALDESC:Events for Millers Carnation
REFRESH-INTERVAL;VALUE=DURATION:PT1H
X-Robots-Tag:noindex
X-PUBLISHED-TTL:PT1H
BEGIN:VTIMEZONE
TZID:America/Los_Angeles
BEGIN:DAYLIGHT
TZOFFSETFROM:-0800
TZOFFSETTO:-0700
TZNAME:PDT
DTSTART:20240310T100000
END:DAYLIGHT
BEGIN:STANDARD
TZOFFSETFROM:-0700
TZOFFSETTO:-0800
TZNAME:PST
DTSTART:20241103T090000
END:STANDARD
BEGIN:DAYLIGHT
TZOFFSETFROM:-0800
TZOFFSETTO:-0700
TZNAME:PDT
DTSTART:20250309T100000
END:DAYLIGHT
BEGIN:STANDARD
TZOFFSETFROM:-0700
TZOFFSETTO:-0800
TZNAME:PST
DTSTART:20251102T090000
END:STANDARD
BEGIN:DAYLIGHT
TZOFFSETFROM:-0800
TZOFFSETTO:-0700
TZNAME:PDT
DTSTART:20260308T100000
END:DAYLIGHT
BEGIN:STANDARD
TZOFFSETFROM:-0700
TZOFFSETTO:-0800
TZNAME:PST
DTSTART:20261101T090000
END:STANDARD
END:VTIMEZONE
BEGIN:VEVENT
DTSTART;TZID=America/Los_Angeles:20250817T160000
DTEND;TZID=America/Los_Angeles:20250817T180000
DTSTAMP:20260419T143510
CREATED:20250706T133905Z
LAST-MODIFIED:20250706T133905Z
UID:10000611-1755446400-1755453600@millerscarnation.com
SUMMARY:Massy Ferguson - Carnation Concert Crawl - FREE!
DESCRIPTION:For more than a dozen years\, Massy Ferguson have proudly planted their boots on both sides of the country-rock divide\, carving out their own brand of amplified Americana along the way. Based in Seattle\, they’ve become international torchbearers of a sound that’s distinctly American\, with a touring history that spans nine different countries. On their fifth album\, Great Divides\, they double down on their rock & roll roots\, mixing bar-band twang with raw\, guitar-driven bang. \nGluing those sounds together is the songwriting partnership of bass-playing front man Ethan Anderson and guitarist Adam Monda\, whose songs spin stories of small-town adolescence\, big-city adulthood\, and the long miles of highway that stretch between. \nThank you\, the Port of Seattle and City of Carnation.
URL:https://millerscarnation.com/event/massy-ferguson-carnation-concert-crawl-free/
LOCATION:Millers – A Gathering Place\, 4597 Tolt Avenue\, Carnation\, WA\, 98014\, United States
CATEGORIES:public
ATTACH;FMTTYPE=image/jpeg:https://millerscarnation.com/wp-content/uploads/2025/07/Massy-Pic.jpg
END:VEVENT
END:VCALENDAR