BEGIN:VCALENDAR
VERSION:2.0
PRODID:-//Millers Carnation - ECPv6.15.20//NONSGML v1.0//EN
CALSCALE:GREGORIAN
METHOD:PUBLISH
X-WR-CALNAME:Millers Carnation
X-ORIGINAL-URL:https://millerscarnation.com
X-WR-CALDESC:Events for Millers Carnation
REFRESH-INTERVAL;VALUE=DURATION:PT1H
X-Robots-Tag:noindex
X-PUBLISHED-TTL:PT1H
BEGIN:VTIMEZONE
TZID:America/Los_Angeles
BEGIN:DAYLIGHT
TZOFFSETFROM:-0800
TZOFFSETTO:-0700
TZNAME:PDT
DTSTART:20240310T100000
END:DAYLIGHT
BEGIN:STANDARD
TZOFFSETFROM:-0700
TZOFFSETTO:-0800
TZNAME:PST
DTSTART:20241103T090000
END:STANDARD
BEGIN:DAYLIGHT
TZOFFSETFROM:-0800
TZOFFSETTO:-0700
TZNAME:PDT
DTSTART:20250309T100000
END:DAYLIGHT
BEGIN:STANDARD
TZOFFSETFROM:-0700
TZOFFSETTO:-0800
TZNAME:PST
DTSTART:20251102T090000
END:STANDARD
BEGIN:DAYLIGHT
TZOFFSETFROM:-0800
TZOFFSETTO:-0700
TZNAME:PDT
DTSTART:20260308T100000
END:DAYLIGHT
BEGIN:STANDARD
TZOFFSETFROM:-0700
TZOFFSETTO:-0800
TZNAME:PST
DTSTART:20261101T090000
END:STANDARD
END:VTIMEZONE
BEGIN:VEVENT
DTSTART;TZID=America/Los_Angeles:20250815T200000
DTEND;TZID=America/Los_Angeles:20250815T200000
DTSTAMP:20260419T113041
CREATED:20250710T225154Z
LAST-MODIFIED:20250710T234400Z
UID:10000612-1755288000-1755288000@millerscarnation.com
SUMMARY:Jenner Fox Band
DESCRIPTION:The Bellingham\, Washington-based group — comprised of singer/songwriter Jenner Fox\, guitarist Jeremy Elliott\, lap steel and dobro player Benji Nagel\, bassist Aaron Moore\, and multi-instrumentalist Aaron Guest\, — reintroduced themselves this past January with the spiritually cleansing “Heart Tattoo\,” and have been releasing new music each month ever since\, shining a spotlight on the band’s synergy\, their instrumental finesse and their vocal harmonies. \n*Tickets are nonrefundable\, unless show is cancelled\, or rescheduled. If you cannot attend a show\, tickets can be transferred from purchaser to another individual\, or individuals. Tickets purchased for a specific event cannot be transferred to a different event. \nBeer\, wine\, and non-alcoholic beverages available. Food can be brought in from area restaurants. No outside drinks please.\nAll ages.
URL:https://millerscarnation.com/event/jenner-fox-band/
LOCATION:Millers – A Gathering Place\, 4597 Tolt Avenue\, Carnation\, WA\, 98014\, United States
CATEGORIES:public
ATTACH;FMTTYPE=image/jpeg:https://millerscarnation.com/wp-content/uploads/2025/07/Jenner-Fox-Band-2025-WEB.jpeg
END:VEVENT
END:VCALENDAR