BEGIN:VCALENDAR
VERSION:2.0
PRODID:-//Millers Carnation - ECPv6.15.20//NONSGML v1.0//EN
CALSCALE:GREGORIAN
METHOD:PUBLISH
X-ORIGINAL-URL:https://millerscarnation.com
X-WR-CALDESC:Events for Millers Carnation
REFRESH-INTERVAL;VALUE=DURATION:PT1H
X-Robots-Tag:noindex
X-PUBLISHED-TTL:PT1H
BEGIN:VTIMEZONE
TZID:America/Los_Angeles
BEGIN:DAYLIGHT
TZOFFSETFROM:-0800
TZOFFSETTO:-0700
TZNAME:PDT
DTSTART:20240310T100000
END:DAYLIGHT
BEGIN:STANDARD
TZOFFSETFROM:-0700
TZOFFSETTO:-0800
TZNAME:PST
DTSTART:20241103T090000
END:STANDARD
BEGIN:DAYLIGHT
TZOFFSETFROM:-0800
TZOFFSETTO:-0700
TZNAME:PDT
DTSTART:20250309T100000
END:DAYLIGHT
BEGIN:STANDARD
TZOFFSETFROM:-0700
TZOFFSETTO:-0800
TZNAME:PST
DTSTART:20251102T090000
END:STANDARD
BEGIN:DAYLIGHT
TZOFFSETFROM:-0800
TZOFFSETTO:-0700
TZNAME:PDT
DTSTART:20260308T100000
END:DAYLIGHT
BEGIN:STANDARD
TZOFFSETFROM:-0700
TZOFFSETTO:-0800
TZNAME:PST
DTSTART:20261101T090000
END:STANDARD
END:VTIMEZONE
BEGIN:VEVENT
DTSTART;TZID=America/Los_Angeles:20250810T180000
DTEND;TZID=America/Los_Angeles:20250810T180000
DTSTAMP:20260419T143510
CREATED:20250624T132656Z
LAST-MODIFIED:20250624T132752Z
UID:10000609-1754848800-1754848800@millerscarnation.com
SUMMARY:Lucia Flores-Wiseman - FREE Outdoor Concert Series
DESCRIPTION:Lucia Flores-Wiseman is a talented Mexican-American singer/songwriter from\nMaple Valley\, Washington. Her blend of indie\, folk\, and jazz has been captivating\naudiences since 2018. Influenced by artists like Amy Winehouse and Norah\nJones\, Lucia’s performances showcase her soulful vocals and detailed approach\nto music that creates a deep connection with listeners. Lucia has shared the\nstage with\nBrandi Carlile and has performed at numerous shows\, earning praise\nfor her lively and emotional style. Currently\, Lucia is on the 27th season of Nbc’s\nThe Voice and received a 4 chair turn for her\nBlind Audition.
URL:https://millerscarnation.com/event/lucia-flores-wiseman/
LOCATION:Millers – A Gathering Place\, 4597 Tolt Avenue\, Carnation\, WA\, 98014\, United States
CATEGORIES:public
ATTACH;FMTTYPE=image/jpeg:https://millerscarnation.com/wp-content/uploads/2025/06/SCS-25-Lucia-Flores-Wiseman-WEB.jpg
END:VEVENT
END:VCALENDAR