BEGIN:VCALENDAR
VERSION:2.0
PRODID:-//Millers Carnation - ECPv6.15.20//NONSGML v1.0//EN
CALSCALE:GREGORIAN
METHOD:PUBLISH
X-ORIGINAL-URL:https://millerscarnation.com
X-WR-CALDESC:Events for Millers Carnation
REFRESH-INTERVAL;VALUE=DURATION:PT1H
X-Robots-Tag:noindex
X-PUBLISHED-TTL:PT1H
BEGIN:VTIMEZONE
TZID:America/Los_Angeles
BEGIN:DAYLIGHT
TZOFFSETFROM:-0800
TZOFFSETTO:-0700
TZNAME:PDT
DTSTART:20240310T100000
END:DAYLIGHT
BEGIN:STANDARD
TZOFFSETFROM:-0700
TZOFFSETTO:-0800
TZNAME:PST
DTSTART:20241103T090000
END:STANDARD
BEGIN:DAYLIGHT
TZOFFSETFROM:-0800
TZOFFSETTO:-0700
TZNAME:PDT
DTSTART:20250309T100000
END:DAYLIGHT
BEGIN:STANDARD
TZOFFSETFROM:-0700
TZOFFSETTO:-0800
TZNAME:PST
DTSTART:20251102T090000
END:STANDARD
BEGIN:DAYLIGHT
TZOFFSETFROM:-0800
TZOFFSETTO:-0700
TZNAME:PDT
DTSTART:20260308T100000
END:DAYLIGHT
BEGIN:STANDARD
TZOFFSETFROM:-0700
TZOFFSETTO:-0800
TZNAME:PST
DTSTART:20261101T090000
END:STANDARD
END:VTIMEZONE
BEGIN:VEVENT
DTSTART;TZID=America/Los_Angeles:20250808T200000
DTEND;TZID=America/Los_Angeles:20250808T200000
DTSTAMP:20260419T173415
CREATED:20250314T143508Z
LAST-MODIFIED:20250630T152514Z
UID:10000597-1754683200-1754683200@millerscarnation.com
SUMMARY:Olive Klug with Moe Reen and Maddie Pritchard
DESCRIPTION:Olive Klug refuses to be put in a box. Working out who you are in front of an ever-growing audience is no small task\, but one that the Portland-born\, Nashville-based singer/songwriter is up for and thriving. \nOlive can’t help but be unapologetically themselves\, something their community of fans (dubbed the “Klug Bugs” on Instagram and Discord) appreciate most about them. Their debut LP ranges from a playful Americana romp about “watching all the rules disintegrate” to folk-punk anthem “Coming of Age\,” which somehow manages to reference both pop singer Taylor Swift and existential philosopher Kierkegaard in one song\, to “Parched”‘s haunting modern ballad about a doomed relationship\, to an indie rock closer about learning to take up space as a person with a marginalized identity. Through this no-holds-barred documentation of the struggles of their early adulthood\, Klug embraces all their inner contradictions with reckless abandon. \nOhio-based (and born and raised) country-folk songsmith Moe Reen writes from the heart\, for the heart. A lifelong vocalist\, their old-school country voice often garners comparisons to Patsy Cline\, Hank Williams\, and other honky-tonk-heartbreak crooners of yesteryear. Moe’s witty lyrics\, however\, are distinctly modern. \nRaised in the Pacific Northwest\, singer-songwriter Maddie Pritchard has been captivating audiences for over a decade with her vulnerable\, bittersweet songwriting. Raised in a musical household\, she is deeply influenced by folk and pop and expertly blends introspective storytelling with soothing melodies. Her warm\, intimate vocal style brings depth to her contemplative and personal songs of love\, loss\, and growth. Having performed at Capitol Hill Block Party and shared the stage with artists such as Anna Tivel\, Maddie continues to leave a lasting impression with her honest and evocative performances. \n*Tickets are nonrefundable\, unless show is cancelled\, or rescheduled. If you cannot attend a show\, tickets can be transferred from purchaser to another individual\, or individuals. Tickets purchased for a specific event cannot be transferred to a different event. \nBeer\, wine\, and non-alcoholic beverages available. Food can be brought in from area restaurants. No outside drinks please.\nAll ages.
URL:https://millerscarnation.com/event/olive-klug-with-maddie-pritchard/
LOCATION:Millers – A Gathering Place\, 4597 Tolt Avenue\, Carnation\, WA\, 98014\, United States
CATEGORIES:public
ATTACH;FMTTYPE=image/jpeg:https://millerscarnation.com/wp-content/uploads/2025/03/Olive-Klug-Maddie-WEB.jpg
END:VEVENT
END:VCALENDAR