BEGIN:VCALENDAR
VERSION:2.0
PRODID:-//Millers Carnation - ECPv6.15.20//NONSGML v1.0//EN
CALSCALE:GREGORIAN
METHOD:PUBLISH
X-WR-CALNAME:Millers Carnation
X-ORIGINAL-URL:https://millerscarnation.com
X-WR-CALDESC:Events for Millers Carnation
REFRESH-INTERVAL;VALUE=DURATION:PT1H
X-Robots-Tag:noindex
X-PUBLISHED-TTL:PT1H
BEGIN:VTIMEZONE
TZID:America/Los_Angeles
BEGIN:DAYLIGHT
TZOFFSETFROM:-0800
TZOFFSETTO:-0700
TZNAME:PDT
DTSTART:20240310T100000
END:DAYLIGHT
BEGIN:STANDARD
TZOFFSETFROM:-0700
TZOFFSETTO:-0800
TZNAME:PST
DTSTART:20241103T090000
END:STANDARD
BEGIN:DAYLIGHT
TZOFFSETFROM:-0800
TZOFFSETTO:-0700
TZNAME:PDT
DTSTART:20250309T100000
END:DAYLIGHT
BEGIN:STANDARD
TZOFFSETFROM:-0700
TZOFFSETTO:-0800
TZNAME:PST
DTSTART:20251102T090000
END:STANDARD
BEGIN:DAYLIGHT
TZOFFSETFROM:-0800
TZOFFSETTO:-0700
TZNAME:PDT
DTSTART:20260308T100000
END:DAYLIGHT
BEGIN:STANDARD
TZOFFSETFROM:-0700
TZOFFSETTO:-0800
TZNAME:PST
DTSTART:20261101T090000
END:STANDARD
END:VTIMEZONE
BEGIN:VEVENT
DTSTART;TZID=America/Los_Angeles:20250803T180000
DTEND;TZID=America/Los_Angeles:20250803T180000
DTSTAMP:20260420T015727
CREATED:20250623T205109Z
LAST-MODIFIED:20250624T132830Z
UID:10000607-1754244000-1754244000@millerscarnation.com
SUMMARY:Small Paul and Drew Martin - FREE Outdoor Concert Series
DESCRIPTION:Musically\, Small Paul is a 4 headed collaborative effort that began fortuitously during the pandemic as a fusion of 4 musicians living in the same pod. \nWhile originally bonding over the shared love of Wings\, NRBQ sounding records and singing harmony together late into the night\, Small Paul became an outlet and excuse to reckon and engage with each individual’s own past and present struggles and to use music as an outlet to create light out of dark days. \nDrew Martin is a songwriter from Maui\, Hawaii. Multi-instrumentalist playing a variety of 12 string guitars\, harmonicas\, and ukulele. Songs inspired by nature. Music from the West Maui Mountains. His sound is a blend of Hawaiian slack key guitar and folk-blues. \n 
URL:https://millerscarnation.com/event/small-paul-and-drew-martin/
LOCATION:Millers – A Gathering Place\, 4597 Tolt Avenue\, Carnation\, WA\, 98014\, United States
CATEGORIES:public
ATTACH;FMTTYPE=image/jpeg:https://millerscarnation.com/wp-content/uploads/2025/06/SCS-25-Small-Paul-WEB.jpg
END:VEVENT
END:VCALENDAR