BEGIN:VCALENDAR
VERSION:2.0
PRODID:-//Millers Carnation - ECPv6.15.20//NONSGML v1.0//EN
CALSCALE:GREGORIAN
METHOD:PUBLISH
X-ORIGINAL-URL:https://millerscarnation.com
X-WR-CALDESC:Events for Millers Carnation
REFRESH-INTERVAL;VALUE=DURATION:PT1H
X-Robots-Tag:noindex
X-PUBLISHED-TTL:PT1H
BEGIN:VTIMEZONE
TZID:America/Los_Angeles
BEGIN:DAYLIGHT
TZOFFSETFROM:-0800
TZOFFSETTO:-0700
TZNAME:PDT
DTSTART:20240310T100000
END:DAYLIGHT
BEGIN:STANDARD
TZOFFSETFROM:-0700
TZOFFSETTO:-0800
TZNAME:PST
DTSTART:20241103T090000
END:STANDARD
BEGIN:DAYLIGHT
TZOFFSETFROM:-0800
TZOFFSETTO:-0700
TZNAME:PDT
DTSTART:20250309T100000
END:DAYLIGHT
BEGIN:STANDARD
TZOFFSETFROM:-0700
TZOFFSETTO:-0800
TZNAME:PST
DTSTART:20251102T090000
END:STANDARD
BEGIN:DAYLIGHT
TZOFFSETFROM:-0800
TZOFFSETTO:-0700
TZNAME:PDT
DTSTART:20260308T100000
END:DAYLIGHT
BEGIN:STANDARD
TZOFFSETFROM:-0700
TZOFFSETTO:-0800
TZNAME:PST
DTSTART:20261101T090000
END:STANDARD
END:VTIMEZONE
BEGIN:VEVENT
DTSTART;TZID=America/Los_Angeles:20250730T183000
DTEND;TZID=America/Los_Angeles:20250730T183000
DTSTAMP:20260424T090554
CREATED:20250711T155503Z
LAST-MODIFIED:20250711T155604Z
UID:10000614-1753900200-1753900200@millerscarnation.com
SUMMARY:Open Mic - No Cover
DESCRIPTION:Come join us for Miller’s Open Mic the last Wednesday of every month.  Sign up starts at 6:00\, first come.  Performances start at 6:30. Two songs limit.  All talent forms welcome.  Looking forward to hearing what the valley has to offer! \nTwo song limit. Please keep set-up minimal. Thank you! \nBeer\, wine\, and non-alcoholic beverages available.  Food can be brought in from area restaurants.  No outside drinks please. \nAll ages.
URL:https://millerscarnation.com/event/open-mic-no-cover-28/
LOCATION:Millers – A Gathering Place\, 4597 Tolt Avenue\, Carnation\, WA\, 98014\, United States
CATEGORIES:public
ATTACH;FMTTYPE=image/webp:https://millerscarnation.com/wp-content/uploads/2024/01/OM-Poster.jpg.webp
END:VEVENT
END:VCALENDAR