BEGIN:VCALENDAR
VERSION:2.0
PRODID:-//Millers Carnation - ECPv6.15.20//NONSGML v1.0//EN
CALSCALE:GREGORIAN
METHOD:PUBLISH
X-ORIGINAL-URL:https://millerscarnation.com
X-WR-CALDESC:Events for Millers Carnation
REFRESH-INTERVAL;VALUE=DURATION:PT1H
X-Robots-Tag:noindex
X-PUBLISHED-TTL:PT1H
BEGIN:VTIMEZONE
TZID:America/Los_Angeles
BEGIN:DAYLIGHT
TZOFFSETFROM:-0800
TZOFFSETTO:-0700
TZNAME:PDT
DTSTART:20240310T100000
END:DAYLIGHT
BEGIN:STANDARD
TZOFFSETFROM:-0700
TZOFFSETTO:-0800
TZNAME:PST
DTSTART:20241103T090000
END:STANDARD
BEGIN:DAYLIGHT
TZOFFSETFROM:-0800
TZOFFSETTO:-0700
TZNAME:PDT
DTSTART:20250309T100000
END:DAYLIGHT
BEGIN:STANDARD
TZOFFSETFROM:-0700
TZOFFSETTO:-0800
TZNAME:PST
DTSTART:20251102T090000
END:STANDARD
BEGIN:DAYLIGHT
TZOFFSETFROM:-0800
TZOFFSETTO:-0700
TZNAME:PDT
DTSTART:20260308T100000
END:DAYLIGHT
BEGIN:STANDARD
TZOFFSETFROM:-0700
TZOFFSETTO:-0800
TZNAME:PST
DTSTART:20261101T090000
END:STANDARD
END:VTIMEZONE
BEGIN:VEVENT
DTSTART;TZID=America/Los_Angeles:20250703T190000
DTEND;TZID=America/Los_Angeles:20250703T190000
DTSTAMP:20260424T101802
CREATED:20250524T145736Z
LAST-MODIFIED:20250524T145736Z
UID:10000775-1751569200-1751569200@millerscarnation.com
SUMMARY:The Dusty 45s - 4th of July Kickoff Party - FREE!
DESCRIPTION:Come help us kick off the Carnation 4th of July festivities with The Dusty 45’s on our new outdoor stage! \nThe Dusty 45s have inspired and fired up crowds for over two decades to the delight of fans and critics alike. With their signature style and unique sound\, the band is a consistently powerful and energetic player in the Americana field. \nThe band was founded in 1997 by charismatic singer/songwriter\, guitarist and trumpeter\, Billy Joe Huels. Huels’ songs draw inspiration from the roots of rock\, rhythm and blues\, honky-tonk and jazz. The quartet also features award winning blues guitarist\, Rod Cook\, Robin Cady (upright bass) and Kohen Burrill (Drums). \nThe Dusty 45s have toured extensively. They backed Rock and Roll Hall of famer\, Wanda Jackson many times\, including when they joined her for Adele’s “21” tour in 2011. The band has shared the stage with Brandi Carlile\, Lyle Lovett\, John Prine\, The Ventures\, Lucinda Williams\, Leann Rhymes and Dick Dale\, to name a few. In 2007\, Huels received critical acclaim for his portrayal of Buddy Holly at Seattle’s 5th Avenue Theatre. In 2019\, he interviewed PBS “Country Music “documentarian\, Ken Burns\, at Meany Hall in front of a sold-out audience. The Dusty 45s have released 7 recordings. The 2014 album\, “Live and On Fire”\, showcases the best of their bold and brassy sound recorded live at the Triple Door in Seattle\, WA. Huels and the band are currently working on a new recording to be released in 2023.
URL:https://millerscarnation.com/event/the-dusty-45s-4th-of-july-kickoff-party-free-2/
LOCATION:Millers – A Gathering Place\, 4597 Tolt Avenue\, Carnation\, WA\, 98014\, United States
CATEGORIES:public
ATTACH;FMTTYPE=image/jpeg:https://millerscarnation.com/wp-content/uploads/2025/05/The-Dusty-45s-2025-WEB.jpg
END:VEVENT
END:VCALENDAR