BEGIN:VCALENDAR
VERSION:2.0
PRODID:-//Millers Carnation - ECPv6.15.20//NONSGML v1.0//EN
CALSCALE:GREGORIAN
METHOD:PUBLISH
X-WR-CALNAME:Millers Carnation
X-ORIGINAL-URL:https://millerscarnation.com
X-WR-CALDESC:Events for Millers Carnation
REFRESH-INTERVAL;VALUE=DURATION:PT1H
X-Robots-Tag:noindex
X-PUBLISHED-TTL:PT1H
BEGIN:VTIMEZONE
TZID:America/Los_Angeles
BEGIN:DAYLIGHT
TZOFFSETFROM:-0800
TZOFFSETTO:-0700
TZNAME:PDT
DTSTART:20240310T100000
END:DAYLIGHT
BEGIN:STANDARD
TZOFFSETFROM:-0700
TZOFFSETTO:-0800
TZNAME:PST
DTSTART:20241103T090000
END:STANDARD
BEGIN:DAYLIGHT
TZOFFSETFROM:-0800
TZOFFSETTO:-0700
TZNAME:PDT
DTSTART:20250309T100000
END:DAYLIGHT
BEGIN:STANDARD
TZOFFSETFROM:-0700
TZOFFSETTO:-0800
TZNAME:PST
DTSTART:20251102T090000
END:STANDARD
BEGIN:DAYLIGHT
TZOFFSETFROM:-0800
TZOFFSETTO:-0700
TZNAME:PDT
DTSTART:20260308T100000
END:DAYLIGHT
BEGIN:STANDARD
TZOFFSETFROM:-0700
TZOFFSETTO:-0800
TZNAME:PST
DTSTART:20261101T090000
END:STANDARD
END:VTIMEZONE
BEGIN:VEVENT
DTSTART;TZID=America/Los_Angeles:20250530T200000
DTEND;TZID=America/Los_Angeles:20250530T200000
DTSTAMP:20260424T132020
CREATED:20250317T155127Z
LAST-MODIFIED:20250317T155237Z
UID:10000598-1748635200-1748635200@millerscarnation.com
SUMMARY:Mike Frazier with Dalaine
DESCRIPTION:Mike Frazier hails from the Shenandoah Valley in Virginia but relocated to Seattle\, Washington in 2022 with his wife\, and author Stephanie Bruno. Frazier spent the last decade touring relentlessly\, and releasing half a dozen records. Since his move to Seattle\, he has continued to tour around the United States. Frazier is carrying on the tradition of record craft with a focus on authentic songwriting and high-quality production. Frazier draws inspiration from the valley he grew up in\, his travels around the world\, protest movements\, and the classic folk music storytelling he is so deeply inspired by. \nFrom Seattle\, Washington singer-songwriter Dalaine brings strong lyrics to life with emotive melodies\, blending contemporary folk\, jazz\, and soft rock. As described by NPR Music (Tiny Desk Contest)\, “Dalaine warms the room with her gentle but striking voice’. Dalaine returns to Miller’s Carnation with her full band to celebrate the release of her debut EP ‘Resting on a Cliff’. \n*Tickets are non-refundable\, unless the show is cancelled or rescheduled. If you cannot attend a show\, tickets can be transferred from the purchaser to another individual\, or individuals. Tickets purchased for a specific event cannot be transferred to a different event. \nBeer\, wine\, and non-alcoholic beverages available.  Food can be brought in from area restaurants.  No outside drinks please. \nAll ages.
URL:https://millerscarnation.com/event/mike-frazier-with-dalaine/
LOCATION:Millers – A Gathering Place\, 4597 Tolt Avenue\, Carnation\, WA\, 98014\, United States
CATEGORIES:public
ATTACH;FMTTYPE=image/jpeg:https://millerscarnation.com/wp-content/uploads/2025/03/Mike-Frazier-Dalaine-WEB.jpg
END:VEVENT
END:VCALENDAR