BEGIN:VCALENDAR
VERSION:2.0
PRODID:-//Millers Carnation - ECPv6.15.20//NONSGML v1.0//EN
CALSCALE:GREGORIAN
METHOD:PUBLISH
X-WR-CALNAME:Millers Carnation
X-ORIGINAL-URL:https://millerscarnation.com
X-WR-CALDESC:Events for Millers Carnation
REFRESH-INTERVAL;VALUE=DURATION:PT1H
X-Robots-Tag:noindex
X-PUBLISHED-TTL:PT1H
BEGIN:VTIMEZONE
TZID:America/Los_Angeles
BEGIN:DAYLIGHT
TZOFFSETFROM:-0800
TZOFFSETTO:-0700
TZNAME:PDT
DTSTART:20240310T100000
END:DAYLIGHT
BEGIN:STANDARD
TZOFFSETFROM:-0700
TZOFFSETTO:-0800
TZNAME:PST
DTSTART:20241103T090000
END:STANDARD
BEGIN:DAYLIGHT
TZOFFSETFROM:-0800
TZOFFSETTO:-0700
TZNAME:PDT
DTSTART:20250309T100000
END:DAYLIGHT
BEGIN:STANDARD
TZOFFSETFROM:-0700
TZOFFSETTO:-0800
TZNAME:PST
DTSTART:20251102T090000
END:STANDARD
BEGIN:DAYLIGHT
TZOFFSETFROM:-0800
TZOFFSETTO:-0700
TZNAME:PDT
DTSTART:20260308T100000
END:DAYLIGHT
BEGIN:STANDARD
TZOFFSETFROM:-0700
TZOFFSETTO:-0800
TZNAME:PST
DTSTART:20261101T090000
END:STANDARD
END:VTIMEZONE
BEGIN:VEVENT
DTSTART;TZID=America/Los_Angeles:20250502T200000
DTEND;TZID=America/Los_Angeles:20250502T200000
DTSTAMP:20260424T132556
CREATED:20250331T155848Z
LAST-MODIFIED:20250331T160027Z
UID:10000602-1746216000-1746216000@millerscarnation.com
SUMMARY:Jon Auer
DESCRIPTION:Jon Auer is probably best known as the former singer/songwriter/multi- instrumentalist/co-founder of The Posies and was also a member of the influential Big Star for 17 years. Jon’s solo album Songs from the Year of Our Demise was extremely well reviewed and Auer continues to tour troubadour-style on his own\, sharing his songs and stories side by side. \nJon has also had his Posies compositions featured in 90’s movies such as The Basketball Diaries and Reality Bites and even former Beatle Ringo Starr recorded the Jon-written “Golden Blunders” for Starrs’ Time Takes Time album. \nA record producer and mixer as well\, a teenaged Jon recorded and mixed The Posies first album Failure in his boyhood home in Bellingham\, WA. Besides playing solo these days Jon (along with Jody Stephens (Big Star)\, Mike Mills (R.E.M)\, Chris Stamey (The dB’s)\, and Pat Sansone (Wilco)) can also be found playing around the globe with The Big Star Quintet. \nTickets are nonrefundable\, unless show is cancelled\, or rescheduled. If you cannot attend a show\, tickets can be transferred from purchaser to another individual\, or individuals. Tickets purchased for a specific event cannot be transferred to a different event. \nBeer\, wine\, and non-alcoholic beverages available. Food can be brought in from area restaurants. No outside drinks please.\nAll ages. \n 
URL:https://millerscarnation.com/event/jon-auer/
LOCATION:Millers – A Gathering Place\, 4597 Tolt Avenue\, Carnation\, WA\, 98014\, United States
CATEGORIES:public
ATTACH;FMTTYPE=image/jpeg:https://millerscarnation.com/wp-content/uploads/2025/03/Jon-Auer-WEB.jpg
END:VEVENT
END:VCALENDAR