BEGIN:VCALENDAR
VERSION:2.0
PRODID:-//Millers Carnation - ECPv6.15.20//NONSGML v1.0//EN
CALSCALE:GREGORIAN
METHOD:PUBLISH
X-ORIGINAL-URL:https://millerscarnation.com
X-WR-CALDESC:Events for Millers Carnation
REFRESH-INTERVAL;VALUE=DURATION:PT1H
X-Robots-Tag:noindex
X-PUBLISHED-TTL:PT1H
BEGIN:VTIMEZONE
TZID:America/Los_Angeles
BEGIN:DAYLIGHT
TZOFFSETFROM:-0800
TZOFFSETTO:-0700
TZNAME:PDT
DTSTART:20240310T100000
END:DAYLIGHT
BEGIN:STANDARD
TZOFFSETFROM:-0700
TZOFFSETTO:-0800
TZNAME:PST
DTSTART:20241103T090000
END:STANDARD
BEGIN:DAYLIGHT
TZOFFSETFROM:-0800
TZOFFSETTO:-0700
TZNAME:PDT
DTSTART:20250309T100000
END:DAYLIGHT
BEGIN:STANDARD
TZOFFSETFROM:-0700
TZOFFSETTO:-0800
TZNAME:PST
DTSTART:20251102T090000
END:STANDARD
BEGIN:DAYLIGHT
TZOFFSETFROM:-0800
TZOFFSETTO:-0700
TZNAME:PDT
DTSTART:20260308T100000
END:DAYLIGHT
BEGIN:STANDARD
TZOFFSETFROM:-0700
TZOFFSETTO:-0800
TZNAME:PST
DTSTART:20261101T090000
END:STANDARD
END:VTIMEZONE
BEGIN:VEVENT
DTSTART;TZID=America/Los_Angeles:20250322T200000
DTEND;TZID=America/Los_Angeles:20250322T200000
DTSTAMP:20260425T133214
CREATED:20241216T163323Z
LAST-MODIFIED:20241216T163522Z
UID:10000757-1742673600-1742673600@millerscarnation.com
SUMMARY:Peter Mulvey with Beclynn
DESCRIPTION:Peter Mulvey\, a veteran singer and songwriter from Milwaukee\, Wisconsin. Mulvey is an iconoclast within the singer/songwriter world. Restless and inventive\, he has made 20 records\, spanning rock and roll\, folk\, Jazz\, spoken word\, and Americana. Mulvey continues to tour\, playing over a hundred shows a year as he has for the past 25 years. This is the core of what he does: music\, in a room performed for a live audience. \nBeclynn has been performing in the PNW since 2018\, gathering the attention of audiences at wineries\, festivals & private parties with original music and emotionally gripping melodies. Her captivating blend of indie-dark pop and contemporary folk rock is reminiscent of Lizzy McAlpine and The Band Joseph. \n*Tickets are nonrefundable\, unless show is cancelled\, or rescheduled.  If you cannot attend a show\, tickets can be transferred from purchaser to another individual\, or individuals. Tickets purchased for a specific event cannot be transferred to a different event. \nBeer\, wine\, and non-alcoholic beverages available.  Food can be brought in from area restaurants.  No outside drinks please.
URL:https://millerscarnation.com/event/peter-mulvey-with-beclynn/
LOCATION:Millers – A Gathering Place\, 4597 Tolt Avenue\, Carnation\, WA\, 98014\, United States
CATEGORIES:public
ATTACH;FMTTYPE=image/jpeg:https://millerscarnation.com/wp-content/uploads/2024/12/Peter-Mulvey-with-Beclynn-WEB.jpg
END:VEVENT
END:VCALENDAR