BEGIN:VCALENDAR
VERSION:2.0
PRODID:-//Millers Carnation - ECPv6.15.20//NONSGML v1.0//EN
CALSCALE:GREGORIAN
METHOD:PUBLISH
X-ORIGINAL-URL:https://millerscarnation.com
X-WR-CALDESC:Events for Millers Carnation
REFRESH-INTERVAL;VALUE=DURATION:PT1H
X-Robots-Tag:noindex
X-PUBLISHED-TTL:PT1H
BEGIN:VTIMEZONE
TZID:America/Los_Angeles
BEGIN:DAYLIGHT
TZOFFSETFROM:-0800
TZOFFSETTO:-0700
TZNAME:PDT
DTSTART:20240310T100000
END:DAYLIGHT
BEGIN:STANDARD
TZOFFSETFROM:-0700
TZOFFSETTO:-0800
TZNAME:PST
DTSTART:20241103T090000
END:STANDARD
BEGIN:DAYLIGHT
TZOFFSETFROM:-0800
TZOFFSETTO:-0700
TZNAME:PDT
DTSTART:20250309T100000
END:DAYLIGHT
BEGIN:STANDARD
TZOFFSETFROM:-0700
TZOFFSETTO:-0800
TZNAME:PST
DTSTART:20251102T090000
END:STANDARD
BEGIN:DAYLIGHT
TZOFFSETFROM:-0800
TZOFFSETTO:-0700
TZNAME:PDT
DTSTART:20260308T100000
END:DAYLIGHT
BEGIN:STANDARD
TZOFFSETFROM:-0700
TZOFFSETTO:-0800
TZNAME:PST
DTSTART:20261101T090000
END:STANDARD
END:VTIMEZONE
BEGIN:VEVENT
DTSTART;TZID=America/Los_Angeles:20250321T200000
DTEND;TZID=America/Los_Angeles:20250321T200000
DTSTAMP:20260425T150821
CREATED:20241124T025005Z
LAST-MODIFIED:20250226T044218Z
UID:10000752-1742587200-1742587200@millerscarnation.com
SUMMARY:Stephanie Anne Johnson
DESCRIPTION:A singer’s talent is complete when they can bring a crowded dive bar to a collective hush and also get one of the biggest audiences on the planet to a collective standing ovation. Stephanie Anne Johnson is that special singer. Stephanie can don a cowboy hat and sing over a slide as old timers weep. And they have wowed judges on the immensely popular NBC TV series\, The Voice\, showcasing their gifts.\n\n\n\n\nPerhaps it’s no surprise that Johnson is so affecting. Their mantra\, after all\, is “Find your joy and go there.” Their prowess exudes whether they are singing the Black national anthem – “Lift Every Voice And Sing” – to a packed auditorium or whether they’re cooing acoustic lullabies to Saturday night tavern regulars. Their music\, which is rooted in all that’s American\, expresses the pain of the past\, the roots of the down home and the hope that hard work will lead to proper reward. \n*Tickets are nonrefundable\, unless show is cancelled\, or rescheduled.  If you cannot attend a show\, tickets can be transferred from purchaser to another individual\, or individuals. Tickets purchased for a specific event cannot be transferred to a different event. \nBeer\, wine\, and non-alcoholic beverages available.  Food can be brought in from area restaurants.  No outside drinks please.
URL:https://millerscarnation.com/event/stephanie-anne-johnson/
LOCATION:Millers – A Gathering Place\, 4597 Tolt Avenue\, Carnation\, WA\, 98014\, United States
CATEGORIES:public
ATTACH;FMTTYPE=image/jpeg:https://millerscarnation.com/wp-content/uploads/2024/11/Stephanie-Anne-Johnson-POSTER-WEB.jpg
END:VEVENT
END:VCALENDAR