BEGIN:VCALENDAR
VERSION:2.0
PRODID:-//Millers Carnation - ECPv6.15.20//NONSGML v1.0//EN
CALSCALE:GREGORIAN
METHOD:PUBLISH
X-WR-CALNAME:Millers Carnation
X-ORIGINAL-URL:https://millerscarnation.com
X-WR-CALDESC:Events for Millers Carnation
REFRESH-INTERVAL;VALUE=DURATION:PT1H
X-Robots-Tag:noindex
X-PUBLISHED-TTL:PT1H
BEGIN:VTIMEZONE
TZID:America/Los_Angeles
BEGIN:DAYLIGHT
TZOFFSETFROM:-0800
TZOFFSETTO:-0700
TZNAME:PDT
DTSTART:20240310T100000
END:DAYLIGHT
BEGIN:STANDARD
TZOFFSETFROM:-0700
TZOFFSETTO:-0800
TZNAME:PST
DTSTART:20241103T090000
END:STANDARD
BEGIN:DAYLIGHT
TZOFFSETFROM:-0800
TZOFFSETTO:-0700
TZNAME:PDT
DTSTART:20250309T100000
END:DAYLIGHT
BEGIN:STANDARD
TZOFFSETFROM:-0700
TZOFFSETTO:-0800
TZNAME:PST
DTSTART:20251102T090000
END:STANDARD
BEGIN:DAYLIGHT
TZOFFSETFROM:-0800
TZOFFSETTO:-0700
TZNAME:PDT
DTSTART:20260308T100000
END:DAYLIGHT
BEGIN:STANDARD
TZOFFSETFROM:-0700
TZOFFSETTO:-0800
TZNAME:PST
DTSTART:20261101T090000
END:STANDARD
END:VTIMEZONE
BEGIN:VEVENT
DTSTART;TZID=America/Los_Angeles:20250606T200000
DTEND;TZID=America/Los_Angeles:20250606T200000
DTSTAMP:20260424T101414
CREATED:20250409T194326Z
LAST-MODIFIED:20250409T194326Z
UID:10000603-1749240000-1749240000@millerscarnation.com
SUMMARY:Kate Dinsmore and Annie J
DESCRIPTION:Kate Dinsmore is a singer-songwriter based in Seattle\, WA. A dynamic performer and vocalist\, Dinsmore brings her songs to the stage with an undeniable presence. Her music is powerful and emotional\, with influences ranging from Jazz to Rock to Americana. Dinsmore’s performances quickly gained a following in Seattle\, allowing her to open for notable artists such as Pat Benatar\, Colin Hay\, and the Dip. \nAnnie-J delivers a close and personal blend of retro soul and modern pop. Her vocal mastery and presence as a performer make for a playful and moving display that pays homage to acts like Dusty Springfield\, Whitney Houston\, Janelle Monae\, and Solange. At times heartfelt and reserved\, at times powerful and hard-hitting\, Annie J’s sparkling voice and colorful style are uniquely hers. \nBeer\, wine\, and non-alcoholic beverages are available. Food can be brought in from restaurants. No outside drinks please.\nAll ages.
URL:https://millerscarnation.com/event/kate-dinsmore-and-annie-j/
LOCATION:Millers – A Gathering Place\, 4597 Tolt Avenue\, Carnation\, WA\, 98014\, United States
CATEGORIES:public
ATTACH;FMTTYPE=image/jpeg:https://millerscarnation.com/wp-content/uploads/2025/04/Kate-Dinsmore-and-Annie-J-WEB.jpg
END:VEVENT
BEGIN:VEVENT
DTSTART;TZID=America/Los_Angeles:20250614T200000
DTEND;TZID=America/Los_Angeles:20250614T200000
DTSTAMP:20260424T101414
CREATED:20250501T125602Z
LAST-MODIFIED:20250501T125707Z
UID:10000779-1749931200-1749931200@millerscarnation.com
SUMMARY:Marshall Law Band
DESCRIPTION:Marshall Law Band is Seattle’s premier Funk-Hop group\, blending powerful storytelling\, high-energy performances\, and genre-bending musicianship into an unforgettable live experience. Led by frontman Marshall Hugh\, MLB fuses elements of funk\, hip-hop\, rock\, and soul to create music that moves both hearts and feet. \nKnown for igniting crowds with raw passion and unifying messages\, Marshall Law Band turns every show into a full-on movement. Beyond the stage\, MLB is deeply rooted in community building. We’ve partnered with organizations like Sonic Guild\, Bloodworks Northwest\, and local businesses to create collaborative art\, promote wellness\, and empower future generations of artists. \n*Tickets are nonrefundable\, unless show is cancelled\, or rescheduled. If you cannot attend a show\, tickets can be transferred from purchaser to another individual\, or individuals. Tickets purchased for a specific event cannot be transferred to a different event. \nBeer\, wine\, and non-alcoholic beverages available. Food can be brought in from area restaurants. No outside drinks please.\nAll ages.
URL:https://millerscarnation.com/event/marshall-law-band/
LOCATION:Millers – A Gathering Place\, 4597 Tolt Avenue\, Carnation\, WA\, 98014\, United States
CATEGORIES:public
ATTACH;FMTTYPE=image/jpeg:https://millerscarnation.com/wp-content/uploads/2025/05/Marshall-Law-Band-WEB.jpg
END:VEVENT
BEGIN:VEVENT
DTSTART;TZID=America/Los_Angeles:20250619T190000
DTEND;TZID=America/Los_Angeles:20250619T190000
DTSTAMP:20260424T101414
CREATED:20250505T155842Z
LAST-MODIFIED:20250505T155842Z
UID:10000776-1750359600-1750359600@millerscarnation.com
SUMMARY:Country Line Dancing
DESCRIPTION:Snoqualmie Valley Line Dancing instructor Amanda Johnson has been country dancing for 12 years and loves any opportunity to share her passion for it with others. She met her husband through line dancing 10 years ago\, and they have dreamed of starting a country dance night in the Snoqualmie Valley since they first moved to the area. Amanda has been building a line dance community for years through her classes at Si View and is so excited to finally make that dream a reality at Miller’s! \nThe evening will begin with instruction followed by open dance. \n*Tickets are nonrefundable\, unless show is cancelled\, or rescheduled.  If you cannot attend a show\, tickets can be transferred from purchaser to another individual\, or individuals. Tickets purchased for a specific event cannot be transferred to a different event. \nBeer\, wine\, and non-alcoholic beverages available.  Food can be brought in from area restaurants.  No outside drinks please.
URL:https://millerscarnation.com/event/country-line-dancing-13/
LOCATION:Millers – A Gathering Place\, 4597 Tolt Avenue\, Carnation\, WA\, 98014\, United States
CATEGORIES:public
ATTACH;FMTTYPE=image/jpeg:https://millerscarnation.com/wp-content/uploads/2024/12/Country-Line-Dancing-2024-NO-DATES-WEB.jpg
END:VEVENT
BEGIN:VEVENT
DTSTART;TZID=America/Los_Angeles:20250620T200000
DTEND;TZID=America/Los_Angeles:20250620T200000
DTSTAMP:20260424T101414
CREATED:20250416T133307Z
LAST-MODIFIED:20250416T133443Z
UID:10000771-1750449600-1750449600@millerscarnation.com
SUMMARY:Tinkham Road with Sheyenne Leonard
DESCRIPTION:Tinkham Road\, a ‘paranormal string band’ led by band founder Bob Antone\, performs original and historical music of the Pacific Northwest and beyond. With a ten-year history of public performance and having recorded their latest and fourth album entitled ‘Live at the Sunset Garage\,’ the band and their future are looking bright. Recently their song called ‘Wizard Island’ was chosen for a documentary film called ‘The Man Who Invented Flying Saucers’ by Dr. Dean Bertram which is currently winning awards at film festivals worldwide. \nTheir music was also featured in New York City for a special David Lynch tribute hosted by musician and filmmaker Sean Glass in January 2025. If you like storytelling music\, dark and mysterious themes\, time travel\, ghosts\, loggers\, trains\, unsolved mysteries and true crime…then you’ll love Tinkham Road! \nSheyenne Leonard was born and raised in North Bend\, WA\, and has been performing around the Snoqualmie Valley and Seattle for the past seven years. She performs a mix of original music and covers in the genres of indie folk\, singer/songwriter\, and a touch of country. \n*Tickets are nonrefundable\, unless show is cancelled\, or rescheduled. If you cannot attend a show\, tickets can be transferred from purchaser to another individual\, or individuals. Tickets purchased for a specific event cannot be transferred to a different event. \nBeer\, wine\, and non-alcoholic beverages available. Food can be brought in from area restaurants. No outside drinks please.\nAll ages.
URL:https://millerscarnation.com/event/tinkham-road-with-sheyenne-leonard/
LOCATION:Millers – A Gathering Place\, 4597 Tolt Avenue\, Carnation\, WA\, 98014\, United States
CATEGORIES:public
ATTACH;FMTTYPE=image/jpeg:https://millerscarnation.com/wp-content/uploads/2025/04/Tinkham-Road-WEB.jpg
END:VEVENT
BEGIN:VEVENT
DTSTART;TZID=America/Los_Angeles:20250625T183000
DTEND;TZID=America/Los_Angeles:20250625T183000
DTSTAMP:20260424T101414
CREATED:20250618T144303Z
LAST-MODIFIED:20250618T144303Z
UID:10000605-1750876200-1750876200@millerscarnation.com
SUMMARY:Open Mic - No Cover
DESCRIPTION:Come join us for Miller’s Open Mic the last Wednesday of every month.  Sign up starts at 6:00\, first come.  Performances start at 6:30. Two songs limit.  All talent forms welcome.  Looking forward to hearing what the valley has to offer! \nTwo song limit. Please keep set-up minimal. Thank you! \nBeer\, wine\, and non-alcoholic beverages available.  Food can be brought in from area restaurants.  No outside drinks please. \nAll ages.
URL:https://millerscarnation.com/event/open-mic-no-cover-27/
LOCATION:Millers – A Gathering Place\, 4597 Tolt Avenue\, Carnation\, WA\, 98014\, United States
CATEGORIES:public
ATTACH;FMTTYPE=image/webp:https://millerscarnation.com/wp-content/uploads/2024/01/OM-Poster.jpg.webp
END:VEVENT
BEGIN:VEVENT
DTSTART;TZID=America/Los_Angeles:20250627T200000
DTEND;TZID=America/Los_Angeles:20250627T200000
DTSTAMP:20260424T101414
CREATED:20250422T152734Z
LAST-MODIFIED:20250606T224001Z
UID:10000772-1751054400-1751054400@millerscarnation.com
SUMMARY:LeRoy Bell and His Only Friends
DESCRIPTION:When LeRoy Bell teamed up with legendary guitarist G.E. Smith in 2019 the combination quickly evolved into a “COVID super group. Add in Simon Kirk from Bad Company on drums and LeRoy’s longtime bassist Terry Morgan and the product known as Stony Hill was born. \nThe record was released in the fall of 2020 and received glowing reviews from Rolling Stone\, The San Francisco Examiner and many other noted music trade magazines. Release on the BMG music label the main track “America” received critical acclaim for the striking lyrics painting a picture of the divided political climate. \nFollowing LeRoy’s appearance on the XFactor USA and airing in 120 countries\, LeRoy Bell gained millions of fans all over the world that fell in love with his soulful vocal sounds and timeless style. The public reaction to LeRoy’s XFactor performances resulted in him trending worldwide on Twitter on several occasions. Because of the exposure and promotion gained from this international exposure LeRoy Bell is now one of the most distinguished artists to evolve out of the reality TV music/entertainment world. \nThe past few years before the pandemic LeRoy Bell and His Only Friends could be found touring with Huey Lewis and the News or Steve Miller up and down the west coast. They have had the pleasure to perform with Van Morrison\, Fitz and the Tantrums\, Train\, Sheryl Crow\, B.B. King\, Etta James\, Beth Hart\, Joe Cocker\, Al Green\, Idina Menzel\, Sharon Jones & The Dap King\, Paolo Nutini\, India Arie\, Erykah Badu\, LeAnne Rimes\, Joan Osborne\, Michael McDonald\, Suzanne Vega\, Colin Hay\, Mavis Staples\, Keb Mo\, Taj Mahal\, Leon Russell\, Charlie Musselwhite\, and Los Lobos. \n*Tickets are nonrefundable\, unless show is cancelled\, or rescheduled. If you cannot attend a show\, tickets can be transferred from purchaser to another individual\, or individuals. Tickets purchased for a specific event cannot be transferred to a different event. \nBeer\, wine\, and non-alcoholic beverages available. Food can be brought in from area restaurants. No outside drinks please.\nAll ages.
URL:https://millerscarnation.com/event/leroy-bell-and-his-only-friends/
LOCATION:Millers – A Gathering Place\, 4597 Tolt Avenue\, Carnation\, WA\, 98014\, United States
CATEGORIES:public
ATTACH;FMTTYPE=image/jpeg:https://millerscarnation.com/wp-content/uploads/2025/04/LeRoy-Bell-WEB.jpg
END:VEVENT
END:VCALENDAR