BEGIN:VCALENDAR
VERSION:2.0
PRODID:-//Millers Carnation - ECPv6.15.20//NONSGML v1.0//EN
CALSCALE:GREGORIAN
METHOD:PUBLISH
X-ORIGINAL-URL:https://millerscarnation.com
X-WR-CALDESC:Events for Millers Carnation
REFRESH-INTERVAL;VALUE=DURATION:PT1H
X-Robots-Tag:noindex
X-PUBLISHED-TTL:PT1H
BEGIN:VTIMEZONE
TZID:America/Los_Angeles
BEGIN:DAYLIGHT
TZOFFSETFROM:-0800
TZOFFSETTO:-0700
TZNAME:PDT
DTSTART:20240310T100000
END:DAYLIGHT
BEGIN:STANDARD
TZOFFSETFROM:-0700
TZOFFSETTO:-0800
TZNAME:PST
DTSTART:20241103T090000
END:STANDARD
BEGIN:DAYLIGHT
TZOFFSETFROM:-0800
TZOFFSETTO:-0700
TZNAME:PDT
DTSTART:20250309T100000
END:DAYLIGHT
BEGIN:STANDARD
TZOFFSETFROM:-0700
TZOFFSETTO:-0800
TZNAME:PST
DTSTART:20251102T090000
END:STANDARD
BEGIN:DAYLIGHT
TZOFFSETFROM:-0800
TZOFFSETTO:-0700
TZNAME:PDT
DTSTART:20260308T100000
END:DAYLIGHT
BEGIN:STANDARD
TZOFFSETFROM:-0700
TZOFFSETTO:-0800
TZNAME:PST
DTSTART:20261101T090000
END:STANDARD
END:VTIMEZONE
BEGIN:VEVENT
DTSTART;TZID=America/Los_Angeles:20250502T200000
DTEND;TZID=America/Los_Angeles:20250502T200000
DTSTAMP:20260424T115326
CREATED:20250331T155848Z
LAST-MODIFIED:20250331T160027Z
UID:10000602-1746216000-1746216000@millerscarnation.com
SUMMARY:Jon Auer
DESCRIPTION:Jon Auer is probably best known as the former singer/songwriter/multi- instrumentalist/co-founder of The Posies and was also a member of the influential Big Star for 17 years. Jon’s solo album Songs from the Year of Our Demise was extremely well reviewed and Auer continues to tour troubadour-style on his own\, sharing his songs and stories side by side. \nJon has also had his Posies compositions featured in 90’s movies such as The Basketball Diaries and Reality Bites and even former Beatle Ringo Starr recorded the Jon-written “Golden Blunders” for Starrs’ Time Takes Time album. \nA record producer and mixer as well\, a teenaged Jon recorded and mixed The Posies first album Failure in his boyhood home in Bellingham\, WA. Besides playing solo these days Jon (along with Jody Stephens (Big Star)\, Mike Mills (R.E.M)\, Chris Stamey (The dB’s)\, and Pat Sansone (Wilco)) can also be found playing around the globe with The Big Star Quintet. \nTickets are nonrefundable\, unless show is cancelled\, or rescheduled. If you cannot attend a show\, tickets can be transferred from purchaser to another individual\, or individuals. Tickets purchased for a specific event cannot be transferred to a different event. \nBeer\, wine\, and non-alcoholic beverages available. Food can be brought in from area restaurants. No outside drinks please.\nAll ages. \n 
URL:https://millerscarnation.com/event/jon-auer/
LOCATION:Millers – A Gathering Place\, 4597 Tolt Avenue\, Carnation\, WA\, 98014\, United States
CATEGORIES:public
ATTACH;FMTTYPE=image/jpeg:https://millerscarnation.com/wp-content/uploads/2025/03/Jon-Auer-WEB.jpg
END:VEVENT
BEGIN:VEVENT
DTSTART;TZID=America/Los_Angeles:20250508T190000
DTEND;TZID=America/Los_Angeles:20250508T190000
DTSTAMP:20260424T115326
CREATED:20250411T171710Z
LAST-MODIFIED:20250411T171710Z
UID:10000604-1746730800-1746730800@millerscarnation.com
SUMMARY:Wit & Wine - An Evening of Improv Comedy
DESCRIPTION:Looking for a night of unforgettable fun? Join us every second Thursday of the month at 7pm for “Wit and Wine: An Improv Comedy Show” and immerse yourself in an evening of laughter and creativity at Miller’s in Carnation! Presented by the Duvall Improv Social Club (DISC)\, this monthly improv show features our talented ensemble along with a lineup of local indie improv troupes\, guaranteeing a night full of spontaneous laughs in a vibrant atmosphere. \n*Tickets are nonrefundable\, unless show is cancelled\, or rescheduled. If you cannot attend a show\, tickets can be transferred from purchaser to another individual\, or individuals. Tickets purchased for a specific event cannot be transferred to a different event. \nBeer\, wine\, and non-alcoholic beverages are available for purchase. Food can be brought in from area restaurants. No outside drinks please.\nAll ages.
URL:https://millerscarnation.com/event/wit-wine-an-evening-of-improv-comedy-5/
LOCATION:Millers – A Gathering Place\, 4597 Tolt Avenue\, Carnation\, WA\, 98014\, United States
CATEGORIES:public
ATTACH;FMTTYPE=image/jpeg:https://millerscarnation.com/wp-content/uploads/2024/11/Improv-WEB.jpg
END:VEVENT
BEGIN:VEVENT
DTSTART;TZID=America/Los_Angeles:20250509T200000
DTEND;TZID=America/Los_Angeles:20250509T200000
DTSTAMP:20260424T115326
CREATED:20250305T164105Z
LAST-MODIFIED:20250305T183610Z
UID:10000768-1746820800-1746820800@millerscarnation.com
SUMMARY:Paula Boggs Band with Ian Jones
DESCRIPTION:Paula Boggs Band blends jazz and Americana\, touring and releasing a steady stream of music since 2010. Acts they have opened for include Sunny War\, Eric Bibb and The Cave Singers. They call their sound “Seattle Brewed Soulgrass” and 4th studio album\, “Janus\,” featuring Carolina Chocolate Drops co-founder Dom Flemons\, released in 2022. Paula Boggs Band released the album “Paula Boggs Band Live at Sweetwater Music Hall” and a 5th studio album\, produced and mixed by Martine\, releases in 2025. The latest album includes “traditional folk” but also showcases Gregorian chant and banjo-driven triphop. \n“Boggs captures a raw nostalgia …that might catch you by surprise. She has created a gentle groove for your heartache.” – Americana Highways\n“Rewriting the bluegrass story from a black perspective.” – AmericanaUK \n“Ian Jones is a rare Washington state artist and author whose songs and sound will always hold up\,” says producer Jesse Siebenberg (Supertramp\, Lucas Nelson and Promise of the Real). “That’s the kind of music I put on at home. It’s a pleasure working with Ian and watching how naturally songs come to him. He truly is one of the hardest-working musicians I’ve ever met. His soulfulness as a reliable friend beams from his craft. I’m lucky to take part in attaining his vision in the studio.” \n*Tickets are nonrefundable\, unless show is cancelled\, or rescheduled. If you cannot attend a show\, tickets can be transferred from purchaser to another individual\, or individuals. Tickets purchased for a specific event cannot be transferred to a different event. \nBeer\, wine\, and non-alcoholic beverages available. Food can be brought in from area restaurants. No outside drinks please.\nAll ages.
URL:https://millerscarnation.com/event/paula-boggs-band-with-ian-jones/
LOCATION:Millers – A Gathering Place\, 4597 Tolt Avenue\, Carnation\, WA\, 98014\, United States
CATEGORIES:public
ATTACH;FMTTYPE=image/jpeg:https://millerscarnation.com/wp-content/uploads/2025/03/Paula-Boggs-Ian-Jones-WEB.jpg
END:VEVENT
BEGIN:VEVENT
DTSTART;TZID=America/Los_Angeles:20250515T190000
DTEND;TZID=America/Los_Angeles:20250515T190000
DTSTAMP:20260424T115326
CREATED:20250414T211628Z
LAST-MODIFIED:20250414T211628Z
UID:10000770-1747335600-1747335600@millerscarnation.com
SUMMARY:Country Line Dancing
DESCRIPTION:Snoqualmie Valley Line Dancing instructor Amanda Johnson has been country dancing for 12 years and loves any opportunity to share her passion for it with others. She met her husband through line dancing 10 years ago\, and they have dreamed of starting a country dance night in the Snoqualmie Valley since they first moved to the area. Amanda has been building a line dance community for years through her classes at Si View and is so excited to finally make that dream a reality at Miller’s! \nThe evening will begin with instruction followed by open dance. \n*Tickets are nonrefundable\, unless show is cancelled\, or rescheduled.  If you cannot attend a show\, tickets can be transferred from purchaser to another individual\, or individuals. Tickets purchased for a specific event cannot be transferred to a different event. \nBeer\, wine\, and non-alcoholic beverages available.  Food can be brought in from area restaurants.  No outside drinks please.
URL:https://millerscarnation.com/event/country-line-dancing-12/
LOCATION:Millers – A Gathering Place\, 4597 Tolt Avenue\, Carnation\, WA\, 98014\, United States
CATEGORIES:public
ATTACH;FMTTYPE=image/jpeg:https://millerscarnation.com/wp-content/uploads/2024/12/Country-Line-Dancing-2024-NO-DATES-WEB.jpg
END:VEVENT
BEGIN:VEVENT
DTSTART;TZID=America/Los_Angeles:20250517T200000
DTEND;TZID=America/Los_Angeles:20250517T200000
DTSTAMP:20260424T115326
CREATED:20250310T192520Z
LAST-MODIFIED:20250312T202322Z
UID:10000595-1747512000-1747512000@millerscarnation.com
SUMMARY:Aaron Crawford Acoustic Album Release
DESCRIPTION:Molded by his love for Classic Country\, but influenced by the Seattle Grunge scene\, Aaron Crawford has written and recorded 5 studio albums\, creating a sound that is undeniably unique to the PNW. \nAaron brings a sound to the country music scene that he has been termed Cascade Country\, a little rock and roll\, some classic country and a whole lot of grit. He has spent the past 10 years playing thousands of shows across the country\, sharing the stage most recently with Lynyrd Skynyrd\, Riley Green\, Trace Adkins\, Rodney Akins\, Lonestar\, Lily Rose\, and Ryan Hurd. \n*Tickets are non-refundable\, unless the show is cancelled or rescheduled. If you cannot attend a show\, tickets can be transferred from the purchaser to another individual\, or individuals. Tickets purchased for a specific event cannot be transferred to a different event. \nBeer\, wine\, and non-alcoholic beverages available.  Food can be brought in from area restaurants.  No outside drinks please. \nAll ages. \n 
URL:https://millerscarnation.com/event/an-acoustic-evening-with-aaron-crawford/
LOCATION:Millers – A Gathering Place\, 4597 Tolt Avenue\, Carnation\, WA\, 98014\, United States
CATEGORIES:public
ATTACH;FMTTYPE=image/png:https://millerscarnation.com/wp-content/uploads/2025/03/Aaron-Crawford-Poster.png
END:VEVENT
BEGIN:VEVENT
DTSTART;TZID=America/Los_Angeles:20250523T200000
DTEND;TZID=America/Los_Angeles:20250523T200000
DTSTAMP:20260424T115326
CREATED:20250327T171938Z
LAST-MODIFIED:20250523T205320Z
UID:10000601-1748030400-1748030400@millerscarnation.com
SUMMARY:Sera Cahoone with Tekla Waterfield and Jeff Fielder
DESCRIPTION:Sera Cahoone is a long way from home. Growing up the daughter of a dynamite salesman in the Colorado foothills\, she got her start on the drums at 11. A year later\, her skills had become so promising\, her mom started taking her to dive bars to sit in with the scruffy old bluesmen. By the time she even picked up a guitar\, she had been so shaped by these things – the dynamite\, the blues\, the woods and the hills – it’s no surprise she went on to earn a reputation as one of the strongest songwriters in Seattle’s ever-vibrant Americana scene. \nShe moved north in 1998 to open a snowboard/skateboard shop but quickly found herself backing lo-fi outfit Carissa’s Weird on drums. Since that band split in ‘03\, she’s lent her sticks to folks as variant as Carolina rockers Band of Horses\, Seattle blues chick Betsy Olson\, and singer-songwriter Patrick Park. But in 2006 she struck out on her own with a self-titled debut which immediately scored praise from local and national tastemakers alike. \nContemporary American Roots Seattle based singer/songwriter Tekla Waterfield writes conscious and observational point-of-view lyrics\, presented through the lens of her soft\, soulful and dynamic vocals. She is joined by her husband\, an accomplished guitarist\, multi-instrumentalist & producer\, Jeff Fielder\, to present lush\, harmonic & spellbinding storytelling performances. \n*Tickets are non-refundable\, unless the show is cancelled or rescheduled. If you cannot attend a show\, tickets can be transferred from the purchaser to another individual\, or individuals. Tickets purchased for a specific event cannot be transferred to a different event. \nBeer\, wine\, and non-alcoholic beverages are available. Food can be brought in from area restaurants. No outside drinks please. \nAll ages.
URL:https://millerscarnation.com/event/sera-cahoone-with-tekla-waterfield-and-jeff-fielder/
LOCATION:Millers – A Gathering Place\, 4597 Tolt Avenue\, Carnation\, WA\, 98014\, United States
CATEGORIES:public
ATTACH;FMTTYPE=image/jpeg:https://millerscarnation.com/wp-content/uploads/2025/03/Sera-Cahoone-Tekla-Waterfield-Jeff-Fielder-WEB.jpg
END:VEVENT
BEGIN:VEVENT
DTSTART;TZID=America/Los_Angeles:20250528T183000
DTEND;TZID=America/Los_Angeles:20250528T183000
DTSTAMP:20260424T115326
CREATED:20250505T154948Z
LAST-MODIFIED:20250505T154948Z
UID:10000777-1748457000-1748457000@millerscarnation.com
SUMMARY:Open Mic - No Cover
DESCRIPTION:Come join us for Miller’s Open Mic the last Wednesday of every month.  Sign up starts at 6:00\, first come.  Performances start at 6:30. Two songs limit.  All talent forms welcome.  Looking forward to hearing what the valley has to offer! \nTwo song limit. Please keep set-up minimal. Thank you! \nBeer\, wine\, and non-alcoholic beverages available.  Food can be brought in from area restaurants.  No outside drinks please. \nAll ages.
URL:https://millerscarnation.com/event/open-mic-no-cover-26/
LOCATION:Millers – A Gathering Place\, 4597 Tolt Avenue\, Carnation\, WA\, 98014\, United States
CATEGORIES:public
ATTACH;FMTTYPE=image/webp:https://millerscarnation.com/wp-content/uploads/2024/01/OM-Poster.jpg.webp
END:VEVENT
BEGIN:VEVENT
DTSTART;TZID=America/Los_Angeles:20250529T190000
DTEND;TZID=America/Los_Angeles:20250529T190000
DTSTAMP:20260424T115326
CREATED:20250505T152918Z
LAST-MODIFIED:20250527T194654Z
UID:10000778-1748545200-1748545200@millerscarnation.com
SUMMARY:Davin Stedman and his Wildest Dreams
DESCRIPTION:A benefit concert to support Snoqualmie Valley artist Michael Guttsen in his fight against cancer. \n*Tickets are nonrefundable\, unless show is cancelled\, or rescheduled. If you cannot attend a show\, tickets can be transferred from purchaser to another individual\, or individuals. Tickets purchased for a specific event cannot be transferred to a different event. \nBeer\, wine\, and non-alcoholic beverages available. Food can be brought in from area restaurants. No outside drinks please.\nAll ages.
URL:https://millerscarnation.com/event/david-stedman-and-his-wildest-dreams/
LOCATION:Millers – A Gathering Place\, 4597 Tolt Avenue\, Carnation\, WA\, 98014\, United States
CATEGORIES:public
ATTACH;FMTTYPE=image/png:https://millerscarnation.com/wp-content/uploads/2025/05/wildest-dreams.2.png
END:VEVENT
BEGIN:VEVENT
DTSTART;TZID=America/Los_Angeles:20250530T200000
DTEND;TZID=America/Los_Angeles:20250530T200000
DTSTAMP:20260424T115326
CREATED:20250317T155127Z
LAST-MODIFIED:20250317T155237Z
UID:10000598-1748635200-1748635200@millerscarnation.com
SUMMARY:Mike Frazier with Dalaine
DESCRIPTION:Mike Frazier hails from the Shenandoah Valley in Virginia but relocated to Seattle\, Washington in 2022 with his wife\, and author Stephanie Bruno. Frazier spent the last decade touring relentlessly\, and releasing half a dozen records. Since his move to Seattle\, he has continued to tour around the United States. Frazier is carrying on the tradition of record craft with a focus on authentic songwriting and high-quality production. Frazier draws inspiration from the valley he grew up in\, his travels around the world\, protest movements\, and the classic folk music storytelling he is so deeply inspired by. \nFrom Seattle\, Washington singer-songwriter Dalaine brings strong lyrics to life with emotive melodies\, blending contemporary folk\, jazz\, and soft rock. As described by NPR Music (Tiny Desk Contest)\, “Dalaine warms the room with her gentle but striking voice’. Dalaine returns to Miller’s Carnation with her full band to celebrate the release of her debut EP ‘Resting on a Cliff’. \n*Tickets are non-refundable\, unless the show is cancelled or rescheduled. If you cannot attend a show\, tickets can be transferred from the purchaser to another individual\, or individuals. Tickets purchased for a specific event cannot be transferred to a different event. \nBeer\, wine\, and non-alcoholic beverages available.  Food can be brought in from area restaurants.  No outside drinks please. \nAll ages.
URL:https://millerscarnation.com/event/mike-frazier-with-dalaine/
LOCATION:Millers – A Gathering Place\, 4597 Tolt Avenue\, Carnation\, WA\, 98014\, United States
CATEGORIES:public
ATTACH;FMTTYPE=image/jpeg:https://millerscarnation.com/wp-content/uploads/2025/03/Mike-Frazier-Dalaine-WEB.jpg
END:VEVENT
END:VCALENDAR