BEGIN:VCALENDAR
VERSION:2.0
PRODID:-//Millers Carnation - ECPv6.15.20//NONSGML v1.0//EN
CALSCALE:GREGORIAN
METHOD:PUBLISH
X-ORIGINAL-URL:https://millerscarnation.com
X-WR-CALDESC:Events for Millers Carnation
REFRESH-INTERVAL;VALUE=DURATION:PT1H
X-Robots-Tag:noindex
X-PUBLISHED-TTL:PT1H
BEGIN:VTIMEZONE
TZID:America/Los_Angeles
BEGIN:DAYLIGHT
TZOFFSETFROM:-0800
TZOFFSETTO:-0700
TZNAME:PDT
DTSTART:20240310T100000
END:DAYLIGHT
BEGIN:STANDARD
TZOFFSETFROM:-0700
TZOFFSETTO:-0800
TZNAME:PST
DTSTART:20241103T090000
END:STANDARD
BEGIN:DAYLIGHT
TZOFFSETFROM:-0800
TZOFFSETTO:-0700
TZNAME:PDT
DTSTART:20250309T100000
END:DAYLIGHT
BEGIN:STANDARD
TZOFFSETFROM:-0700
TZOFFSETTO:-0800
TZNAME:PST
DTSTART:20251102T090000
END:STANDARD
BEGIN:DAYLIGHT
TZOFFSETFROM:-0800
TZOFFSETTO:-0700
TZNAME:PDT
DTSTART:20260308T100000
END:DAYLIGHT
BEGIN:STANDARD
TZOFFSETFROM:-0700
TZOFFSETTO:-0800
TZNAME:PST
DTSTART:20261101T090000
END:STANDARD
END:VTIMEZONE
BEGIN:VEVENT
DTSTART;TZID=America/Los_Angeles:20250404T200000
DTEND;TZID=America/Los_Angeles:20250404T200000
DTSTAMP:20260424T133219
CREATED:20250212T163151Z
LAST-MODIFIED:20250212T163307Z
UID:10000765-1743796800-1743796800@millerscarnation.com
SUMMARY:Joseph Pennell Band with Claire Conway
DESCRIPTION:Joseph Pennell is a singer songwriter and Pacific Northwest native who has been involved in music since the age of five. Beginning his musical journey with classical piano\, and expanding through brass jazz performance\, he has since pushed his focus to guitar\, songwriting and arrangement in the indie folk and roots genres. His writing reflects on human relationships\, hardships and growth and is accompanied by layered guitar parts to carry gentle and powerful vocals. \nClaire Conway is a songwriter and storyteller with an ear for authenticity. With a wise-beyond-her years level of poise and introspection that draws comparisons to contemporary folk-minded songwriters like Leith Ross and Eliza McLamb\, Claire draws listeners in with hushed guitar melodies\, warm vocals\, and compelling lyrical meditations on the birth and death of love\, growing up\, and self-discovery. \n*Tickets are nonrefundable\, unless show is cancelled\, or rescheduled.  If you cannot attend a show\, tickets can be transferred from purchaser to another individual\, or individuals. Tickets purchased for a specific event cannot be transferred to a different event. \nBeer\, wine\, and non-alcoholic beverages available.  Food can be brought in from area restaurants.  No outside drinks please. \n 
URL:https://millerscarnation.com/event/joseph-pennell-band-with-claire-conway/
LOCATION:Millers – A Gathering Place\, 4597 Tolt Avenue\, Carnation\, WA\, 98014\, United States
CATEGORIES:public
ATTACH;FMTTYPE=image/jpeg:https://millerscarnation.com/wp-content/uploads/2025/02/Joseph-Pennell-Band-WEB.jpg
END:VEVENT
BEGIN:VEVENT
DTSTART;TZID=America/Los_Angeles:20250410T190000
DTEND;TZID=America/Los_Angeles:20250410T190000
DTSTAMP:20260424T133219
CREATED:20250317T155943Z
LAST-MODIFIED:20250317T155943Z
UID:10000599-1744311600-1744311600@millerscarnation.com
SUMMARY:Wit & Wine - An Evening of Improv Comedy
DESCRIPTION:Looking for a night of unforgettable fun? Join us every second Thursday of the month at 7pm for “Wit and Wine: An Improv Comedy Show” and immerse yourself in an evening of laughter and creativity at Miller’s in Carnation! Presented by the Duvall Improv Social Club (DISC)\, this monthly improv show features our talented ensemble along with a lineup of local indie improv troupes\, guaranteeing a night full of spontaneous laughs in a vibrant atmosphere. \n*Tickets are nonrefundable\, unless show is cancelled\, or rescheduled. If you cannot attend a show\, tickets can be transferred from purchaser to another individual\, or individuals. Tickets purchased for a specific event cannot be transferred to a different event. \nBeer\, wine\, and non-alcoholic beverages are available for purchase. Food can be brought in from area restaurants. No outside drinks please.\nAll ages
URL:https://millerscarnation.com/event/wit-wine-an-evening-of-improv-comedy-4/
LOCATION:Millers – A Gathering Place\, 4597 Tolt Avenue\, Carnation\, WA\, 98014\, United States
CATEGORIES:public
ATTACH;FMTTYPE=image/jpeg:https://millerscarnation.com/wp-content/uploads/2024/11/Improv-WEB.jpg
END:VEVENT
BEGIN:VEVENT
DTSTART;TZID=America/Los_Angeles:20250411T200000
DTEND;TZID=America/Los_Angeles:20250411T200000
DTSTAMP:20260424T133219
CREATED:20250304T000047Z
LAST-MODIFIED:20250304T000146Z
UID:10000767-1744401600-1744401600@millerscarnation.com
SUMMARY:Tomo Nakayama with Willow and Wood
DESCRIPTION:Born in Japan and raised in Seattle\, Washington\, Tomo Nakayama is an artist whose melodic\, complex and emotionally compelling music has been praised by NPR\, New York Times\, and The Stranger. Beginning as frontman of the indie rock bands Asahi and Grand Hallway and a successful solo career spanning two decades as a singer\, songwriter\, composer\, producer\, actor\, and curator\, Nakayama has become one of the most active and recognizable figures in Seattle music. \nWillow and Wood are Willow Scrivner and Kevin Wood\, a married couple who create a sonic landscape of both solitude and beauty\, hovering between the warmth of Americana and the cool darkness of dream pop. The band’s music is transcendent: both a study of the geography of place\, and the constant search for home. Their songs ache with both hope and a broken heart. Those contradictions are at the core of what makes the band so special. \n*Tickets are nonrefundable\, unless show is cancelled\, or rescheduled.  If you cannot attend a show\, tickets can be transferred from purchaser to another individual\, or individuals. Tickets purchased for a specific event cannot be transferred to a different event. \nBeer\, wine\, and non-alcoholic beverages available.  Food can be brought in from area restaurants.  No outside drinks please. \nAll ages. \n 
URL:https://millerscarnation.com/event/tomo-nakayama-with-willow-and-wood/
LOCATION:Millers – A Gathering Place\, 4597 Tolt Avenue\, Carnation\, WA\, 98014\, United States
CATEGORIES:public
ATTACH;FMTTYPE=image/jpeg:https://millerscarnation.com/wp-content/uploads/2025/03/Tomo-Nakayama-Willow-and-Wood-Web.jpg
END:VEVENT
BEGIN:VEVENT
DTSTART;TZID=America/Los_Angeles:20250417T190000
DTEND;TZID=America/Los_Angeles:20250417T190000
DTSTAMP:20260424T133219
CREATED:20250312T182503Z
LAST-MODIFIED:20250312T182734Z
UID:10000596-1744916400-1744916400@millerscarnation.com
SUMMARY:Country Line Dancing
DESCRIPTION:Snoqualmie Valley Line Dancing instructor Amanda Johnson has been country dancing for 12 years and loves any opportunity to share her passion for it with others. She met her husband through line dancing 10 years ago\, and they have dreamed of starting a country dance night in the Snoqualmie Valley since they first moved to the area. Amanda has been building a line dance community for years through her classes at Si View and is so excited to finally make that dream a reality at Miller’s! \nThe evening will begin with instruction followed by open dance. \n*Tickets are nonrefundable\, unless show is cancelled\, or rescheduled.  If you cannot attend a show\, tickets can be transferred from purchaser to another individual\, or individuals. Tickets purchased for a specific event cannot be transferred to a different event. \nBeer\, wine\, and non-alcoholic beverages available.  Food can be brought in from area restaurants.  No outside drinks please.
URL:https://millerscarnation.com/event/country-line-dancing-11/
LOCATION:Millers – A Gathering Place\, 4597 Tolt Avenue\, Carnation\, WA\, 98014\, United States
CATEGORIES:public
ATTACH;FMTTYPE=image/jpeg:https://millerscarnation.com/wp-content/uploads/2024/12/Country-Line-Dancing-2024-NO-DATES-WEB.jpg
END:VEVENT
BEGIN:VEVENT
DTSTART;TZID=America/Los_Angeles:20250418T200000
DTEND;TZID=America/Los_Angeles:20250418T200000
DTSTAMP:20260424T133219
CREATED:20250212T214334Z
LAST-MODIFIED:20250418T182751Z
UID:10000764-1745006400-1745006400@millerscarnation.com
SUMMARY:Long and Strange
DESCRIPTION:Long & Strange play the music of the Grateful Dead for audiences across the Pacific Northwest. A 6-piece band of musicians from the Snoqualmie Valley\, they love sharing their rocking takes on Dead classics with audiences of Deadheads and newcomers alike! If Long & Strange is playing\, it’s a party! \n“We’re proud to be a small twig on the Grateful Dead family tree.” -Long & Strange \n*Tickets are nonrefundable\, unless show is cancelled\, or rescheduled.  If you cannot attend a show\, tickets can be transferred from purchaser to another individual\, or individuals. Tickets purchased for a specific event cannot be transferred to a different event. \nBeer\, wine\, and non-alcoholic beverages available.  Food can be brought in from area restaurants.  No outside drinks please. \nAll ages.
URL:https://millerscarnation.com/event/long-and-strange-5/
LOCATION:Millers – A Gathering Place\, 4597 Tolt Avenue\, Carnation\, WA\, 98014\, United States
CATEGORIES:public
ATTACH;FMTTYPE=image/jpeg:https://millerscarnation.com/wp-content/uploads/2025/02/Long-Strange-04-18-25-WEB.jpg
END:VEVENT
BEGIN:VEVENT
DTSTART;TZID=America/Los_Angeles:20250430T183000
DTEND;TZID=America/Los_Angeles:20250430T183000
DTSTAMP:20260424T133219
CREATED:20250318T165102Z
LAST-MODIFIED:20250318T165102Z
UID:10000600-1746037800-1746037800@millerscarnation.com
SUMMARY:Open Mic - No Cover
DESCRIPTION:Come join us for Miller’s Open Mic the last Wednesday of every month.  Sign up starts at 6:00\, first come.  Performances start at 6:30. Two songs limit.  All talent forms welcome.  Looking forward to hearing what the valley has to offer! \nTwo song limit. Please keep set-up minimal. Thank you! \nBeer\, wine\, and non-alcoholic beverages available.  Food can be brought in from area restaurants.  No outside drinks please. \nAll ages.
URL:https://millerscarnation.com/event/open-mic-no-cover-25/
LOCATION:Millers – A Gathering Place\, 4597 Tolt Avenue\, Carnation\, WA\, 98014\, United States
CATEGORIES:public
ATTACH;FMTTYPE=image/webp:https://millerscarnation.com/wp-content/uploads/2024/01/OM-Poster.jpg.webp
END:VEVENT
END:VCALENDAR